Package: fgsea Version: 1.28.0 Command: rm -rf fgsea.buildbin-libdir && mkdir fgsea.buildbin-libdir && F:\biocbuild\bbs-3.18-bioc\R\bin\R.exe CMD INSTALL --build --library=fgsea.buildbin-libdir fgsea_1.28.0.tar.gz StartedAt: 2024-04-16 07:00:42 -0400 (Tue, 16 Apr 2024) EndedAt: 2024-04-16 07:01:46 -0400 (Tue, 16 Apr 2024) EllapsedTime: 63.5 seconds RetCode: 0 Status: OK PackageFile: fgsea_1.28.0.zip PackageFileSize: 3.941 MiB