Package: fishpond Version: 2.8.0 Command: /home/biocbuild/R/R-4.3.1/bin/R CMD build --keep-empty-dirs --no-resave-data fishpond StartedAt: 2023-11-02 01:06:25 -0000 (Thu, 02 Nov 2023) EndedAt: 2023-11-02 01:12:23 -0000 (Thu, 02 Nov 2023) EllapsedTime: 358.5 seconds RetCode: 0 Status: OK PackageFile: fishpond_2.8.0.tar.gz PackageFileSize: 3.574 MiB