Package: fishpond Version: 2.8.0 Command: /home/biocbuild/R/R-4.3.1/bin/R CMD INSTALL fishpond StartedAt: 2023-11-01 20:15:54 -0000 (Wed, 01 Nov 2023) EndedAt: 2023-11-01 20:16:26 -0000 (Wed, 01 Nov 2023) EllapsedTime: 31.5 seconds RetCode: 0 Status: OK