Package: fishpond Version: 2.8.0 Command: /Library/Frameworks/R.framework/Resources/bin/R CMD build --keep-empty-dirs --no-resave-data fishpond StartedAt: 2024-04-15 18:42:57 -0400 (Mon, 15 Apr 2024) EndedAt: 2024-04-15 18:51:17 -0400 (Mon, 15 Apr 2024) EllapsedTime: 499.7 seconds RetCode: 0 Status: OK PackageFile: fishpond_2.8.0.tar.gz PackageFileSize: 4.277 MiB