Package: fishpond Version: 2.8.0 Command: /Library/Frameworks/R.framework/Resources/bin/R CMD INSTALL fishpond StartedAt: 2024-04-15 15:22:04 -0400 (Mon, 15 Apr 2024) EndedAt: 2024-04-15 15:22:54 -0400 (Mon, 15 Apr 2024) EllapsedTime: 50.2 seconds RetCode: 0 Status: OK