Package: fishpond Version: 2.8.0 Command: /home/biocbuild/bbs-3.18-bioc/R/bin/R CMD build --keep-empty-dirs --no-resave-data fishpond StartedAt: 2024-04-15 17:05:36 -0400 (Mon, 15 Apr 2024) EndedAt: 2024-04-15 17:09:46 -0400 (Mon, 15 Apr 2024) EllapsedTime: 249.6 seconds RetCode: 0 Status: OK PackageFile: fishpond_2.8.0.tar.gz PackageFileSize: 3.373 MiB