Package: fishpond Version: 2.8.0 Command: /home/biocbuild/bbs-3.18-bioc/R/bin/R CMD check --install=check:fishpond.install-out.txt --library=/home/biocbuild/bbs-3.18-bioc/R/site-library --timings fishpond_2.8.0.tar.gz StartedAt: 2024-04-15 22:47:50 -0400 (Mon, 15 Apr 2024) EndedAt: 2024-04-15 22:59:45 -0400 (Mon, 15 Apr 2024) EllapsedTime: 715.6 seconds RetCode: 0 Status: OK CheckDir: fishpond.Rcheck Warnings: 0