Package: flagme Version: 1.58.0 Command: /home/biocbuild/bbs-3.18-bioc/R/bin/R CMD build --keep-empty-dirs --no-resave-data flagme StartedAt: 2024-04-15 17:05:51 -0400 (Mon, 15 Apr 2024) EndedAt: 2024-04-15 17:09:20 -0400 (Mon, 15 Apr 2024) EllapsedTime: 208.8 seconds RetCode: 0 Status: OK PackageFile: flagme_1.58.0.tar.gz PackageFileSize: 420 KiB