Package: flagme Version: 1.58.0 Command: rm -rf flagme.buildbin-libdir && mkdir flagme.buildbin-libdir && F:\biocbuild\bbs-3.18-bioc\R\bin\R.exe CMD INSTALL --build --library=flagme.buildbin-libdir flagme_1.58.0.tar.gz StartedAt: 2024-04-16 07:00:55 -0400 (Tue, 16 Apr 2024) EndedAt: 2024-04-16 07:02:00 -0400 (Tue, 16 Apr 2024) EllapsedTime: 65.2 seconds RetCode: 0 Status: OK PackageFile: flagme_1.58.0.zip PackageFileSize: 937.3 KiB