Package: flagme Version: 1.58.0 Command: F:\biocbuild\bbs-3.18-bioc\R\bin\R.exe CMD INSTALL flagme StartedAt: 2024-04-15 16:32:37 -0400 (Mon, 15 Apr 2024) EndedAt: 2024-04-15 16:33:44 -0400 (Mon, 15 Apr 2024) EllapsedTime: 67.1 seconds RetCode: 0 Status: OK