Package: flowClust Version: 3.40.0 Command: rm -rf flowClust.buildbin-libdir && mkdir flowClust.buildbin-libdir && /Users/biocbuild/BBS/utils/build-universal.sh flowClust_3.40.0.tar.gz /Library/Frameworks/R.framework/Resources/bin/R flowClust.buildbin-libdir StartedAt: 2024-03-04 00:41:28 -0500 (Mon, 04 Mar 2024) EndedAt: 2024-03-04 00:45:54 -0500 (Mon, 04 Mar 2024) EllapsedTime: 266.8 seconds RetCode: 0 Status: OK PackageFile: flowClust_3.40.0.tgz PackageFileSize: 1.46 MiB