Package: flowClust Version: 3.40.0 Command: /Library/Frameworks/R.framework/Resources/bin/R CMD build --keep-empty-dirs --no-resave-data flowClust StartedAt: 2024-03-03 16:44:20 -0500 (Sun, 03 Mar 2024) EndedAt: 2024-03-03 16:48:37 -0500 (Sun, 03 Mar 2024) EllapsedTime: 256.6 seconds RetCode: 0 Status: OK PackageFile: flowClust_3.40.0.tar.gz PackageFileSize: 1.699 MiB