Package: flowClust Version: 3.40.0 Command: /Library/Frameworks/R.framework/Resources/bin/R CMD check --install=check:flowClust.install-out.txt --library=/Library/Frameworks/R.framework/Resources/library --no-vignettes --timings flowClust_3.40.0.tar.gz StartedAt: 2024-03-03 20:38:48 -0500 (Sun, 03 Mar 2024) EndedAt: 2024-03-03 20:43:54 -0500 (Sun, 03 Mar 2024) EllapsedTime: 306.8 seconds RetCode: 0 Status: WARNINGS CheckDir: flowClust.Rcheck Warnings: 2