Package: flowClust Version: 3.40.0 Command: /Library/Frameworks/R.framework/Resources/bin/R CMD INSTALL flowClust StartedAt: 2024-03-03 15:14:57 -0500 (Sun, 03 Mar 2024) EndedAt: 2024-03-03 15:19:01 -0500 (Sun, 03 Mar 2024) EllapsedTime: 243.9 seconds RetCode: 0 Status: OK