Package: flowClust Version: 3.40.0 Command: /Library/Frameworks/R.framework/Resources/bin/R CMD INSTALL flowClust StartedAt: 2024-04-15 15:20:36 -0400 (Mon, 15 Apr 2024) EndedAt: 2024-04-15 15:24:55 -0400 (Mon, 15 Apr 2024) EllapsedTime: 258.5 seconds RetCode: 0 Status: OK