Package: flowClust Version: 3.40.0 Command: /home/biocbuild/bbs-3.18-bioc/R/bin/R CMD check --install=check:flowClust.install-out.txt --library=/home/biocbuild/bbs-3.18-bioc/R/site-library --timings flowClust_3.40.0.tar.gz StartedAt: 2024-04-15 22:49:58 -0400 (Mon, 15 Apr 2024) EndedAt: 2024-04-15 22:53:06 -0400 (Mon, 15 Apr 2024) EllapsedTime: 188.7 seconds RetCode: 0 Status: WARNINGS CheckDir: flowClust.Rcheck Warnings: 1