Package: flowCyBar Version: 1.38.0 Command: /home/biocbuild/bbs-3.18-bioc/R/bin/R CMD check --install=check:flowCyBar.install-out.txt --library=/home/biocbuild/bbs-3.18-bioc/R/site-library --timings flowCyBar_1.38.0.tar.gz StartedAt: 2024-04-15 22:50:28 -0400 (Mon, 15 Apr 2024) EndedAt: 2024-04-15 22:51:25 -0400 (Mon, 15 Apr 2024) EllapsedTime: 57.6 seconds RetCode: 0 Status: OK CheckDir: flowCyBar.Rcheck Warnings: 0