Package: flowDensity Version: 1.36.1 Command: F:\biocbuild\bbs-3.18-bioc\R\bin\R.exe CMD check --no-multiarch --install=check:flowDensity.install-out.txt --library=F:\biocbuild\bbs-3.18-bioc\R\library --no-vignettes --timings flowDensity_1.36.1.tar.gz StartedAt: 2024-04-16 00:50:36 -0400 (Tue, 16 Apr 2024) EndedAt: 2024-04-16 00:51:43 -0400 (Tue, 16 Apr 2024) EllapsedTime: 66.6 seconds RetCode: 0 Status: WARNINGS CheckDir: flowDensity.Rcheck Warnings: 4