Package: flowGraph Version: 1.10.0 Command: /home/biocbuild/R/R-4.3.1/bin/R CMD build --keep-empty-dirs --no-resave-data flowGraph StartedAt: 2023-11-02 01:10:20 -0000 (Thu, 02 Nov 2023) EndedAt: 2023-11-02 01:11:18 -0000 (Thu, 02 Nov 2023) EllapsedTime: 58.1 seconds RetCode: 0 Status: OK PackageFile: flowGraph_1.10.0.tar.gz PackageFileSize: 2.045 MiB