Package: flowGraph Version: 1.10.0 Command: rm -rf flowGraph.buildbin-libdir && mkdir flowGraph.buildbin-libdir && /Users/biocbuild/BBS/utils/build-universal.sh flowGraph_1.10.0.tar.gz /Library/Frameworks/R.framework/Resources/bin/R flowGraph.buildbin-libdir StartedAt: 2024-03-04 00:41:38 -0500 (Mon, 04 Mar 2024) EndedAt: 2024-03-04 00:41:57 -0500 (Mon, 04 Mar 2024) EllapsedTime: 19.5 seconds RetCode: 0 Status: OK PackageFile: flowGraph_1.10.0.tgz PackageFileSize: 2.281 MiB