Package: flowGraph Version: 1.10.0 Command: /home/biocbuild/bbs-3.18-bioc/R/bin/R CMD check --install=check:flowGraph.install-out.txt --library=/home/biocbuild/bbs-3.18-bioc/R/site-library --timings flowGraph_1.10.0.tar.gz StartedAt: 2024-04-15 22:51:07 -0400 (Mon, 15 Apr 2024) EndedAt: 2024-04-15 22:55:09 -0400 (Mon, 15 Apr 2024) EllapsedTime: 241.6 seconds RetCode: 0 Status: OK CheckDir: flowGraph.Rcheck Warnings: 0