Package: flowMatch Version: 1.38.0 Maintainer: Ariful Azad MaintainerEmail: azad at lbl.gov git_url: https://git.bioconductor.org/packages/flowMatch git_branch: RELEASE_3_18 git_last_commit: abd0beb git_last_commit_date: 2023-10-24 09:56:54 -0400 (Tue, 24 Oct 2023)