Package: flowMatch Version: 1.38.0 Command: /Library/Frameworks/R.framework/Resources/bin/R CMD build --keep-empty-dirs --no-resave-data flowMatch StartedAt: 2024-04-15 18:44:29 -0400 (Mon, 15 Apr 2024) EndedAt: 2024-04-15 18:46:39 -0400 (Mon, 15 Apr 2024) EllapsedTime: 129.8 seconds RetCode: 0 Status: OK PackageFile: flowMatch_1.38.0.tar.gz PackageFileSize: 3.676 MiB