Package: flowMeans Version: 1.62.0 Command: /home/biocbuild/bbs-3.18-bioc/R/bin/R CMD build --keep-empty-dirs --no-resave-data flowMeans StartedAt: 2024-04-15 17:07:03 -0400 (Mon, 15 Apr 2024) EndedAt: 2024-04-15 17:07:36 -0400 (Mon, 15 Apr 2024) EllapsedTime: 33.6 seconds RetCode: 0 Status: OK PackageFile: flowMeans_1.62.0.tar.gz PackageFileSize: 3.192 MiB