Package: flowMeans Version: 1.62.0 Command: F:\biocbuild\bbs-3.18-bioc\R\bin\R.exe CMD INSTALL flowMeans StartedAt: 2024-04-15 15:42:47 -0400 (Mon, 15 Apr 2024) EndedAt: 2024-04-15 15:43:10 -0400 (Mon, 15 Apr 2024) EllapsedTime: 22.9 seconds RetCode: 0 Status: OK