Package: flowPeaks Version: 1.48.0 Command: /home/biocbuild/R/R-4.3.1/bin/R CMD INSTALL flowPeaks StartedAt: 2023-11-01 20:03:24 -0000 (Wed, 01 Nov 2023) EndedAt: 2023-11-01 20:03:47 -0000 (Wed, 01 Nov 2023) EllapsedTime: 23.0 seconds RetCode: 0 Status: OK