Package: flowPeaks Version: 1.48.0 Command: /Library/Frameworks/R.framework/Resources/bin/R CMD INSTALL flowPeaks StartedAt: 2024-04-15 15:03:29 -0400 (Mon, 15 Apr 2024) EndedAt: 2024-04-15 15:03:53 -0400 (Mon, 15 Apr 2024) EllapsedTime: 23.3 seconds RetCode: 0 Status: OK