Package: flowPeaks Version: 1.48.0 Command: /home/biocbuild/bbs-3.18-bioc/R/bin/R CMD build --keep-empty-dirs --no-resave-data flowPeaks StartedAt: 2024-04-15 17:07:20 -0400 (Mon, 15 Apr 2024) EndedAt: 2024-04-15 17:07:44 -0400 (Mon, 15 Apr 2024) EllapsedTime: 24.5 seconds RetCode: 0 Status: OK PackageFile: flowPeaks_1.48.0.tar.gz PackageFileSize: 2.55 MiB