Package: flowPeaks Version: 1.48.0 Command: rm -rf flowPeaks.buildbin-libdir && mkdir flowPeaks.buildbin-libdir && F:\biocbuild\bbs-3.18-bioc\R\bin\R.exe CMD INSTALL --build --library=flowPeaks.buildbin-libdir flowPeaks_1.48.0.tar.gz StartedAt: 2024-04-16 07:01:32 -0400 (Tue, 16 Apr 2024) EndedAt: 2024-04-16 07:02:02 -0400 (Tue, 16 Apr 2024) EllapsedTime: 29.9 seconds RetCode: 0 Status: OK PackageFile: flowPeaks_1.48.0.zip PackageFileSize: 2.089 MiB