Package: flowPlots Version: 1.50.0 Command: rm -rf flowPlots.buildbin-libdir && mkdir flowPlots.buildbin-libdir && F:\biocbuild\bbs-3.18-bioc\R\bin\R.exe CMD INSTALL --build --library=flowPlots.buildbin-libdir flowPlots_1.50.0.tar.gz StartedAt: 2024-04-16 07:01:35 -0400 (Tue, 16 Apr 2024) EndedAt: 2024-04-16 07:01:43 -0400 (Tue, 16 Apr 2024) EllapsedTime: 7.9 seconds RetCode: 0 Status: OK PackageFile: flowPlots_1.50.0.zip PackageFileSize: 666.7 KiB