Package: flowPlots Version: 1.50.0 Command: chmod a+r flowPlots -R && F:\biocbuild\bbs-3.18-bioc\R\bin\R.exe CMD build --keep-empty-dirs --no-resave-data flowPlots StartedAt: 2024-04-15 18:34:27 -0400 (Mon, 15 Apr 2024) EndedAt: 2024-04-15 18:34:46 -0400 (Mon, 15 Apr 2024) EllapsedTime: 19.0 seconds RetCode: 0 Status: OK PackageFile: flowPlots_1.50.0.tar.gz PackageFileSize: 454.9 KiB