Package: flowPlots Version: 1.50.0 Command: F:\biocbuild\bbs-3.18-bioc\R\bin\R.exe CMD INSTALL flowPlots StartedAt: 2024-04-15 15:35:35 -0400 (Mon, 15 Apr 2024) EndedAt: 2024-04-15 15:35:52 -0400 (Mon, 15 Apr 2024) EllapsedTime: 17.1 seconds RetCode: 0 Status: OK