Package: flowSpecs Version: 1.16.0 Command: /Library/Frameworks/R.framework/Resources/bin/R CMD build --keep-empty-dirs --no-resave-data flowSpecs StartedAt: 2024-03-03 16:45:37 -0500 (Sun, 03 Mar 2024) EndedAt: 2024-03-03 16:46:29 -0500 (Sun, 03 Mar 2024) EllapsedTime: 52.1 seconds RetCode: 0 Status: OK PackageFile: flowSpecs_1.16.0.tar.gz PackageFileSize: 3.506 MiB