Package: flowStats Version: 4.14.1 Command: /Library/Frameworks/R.framework/Resources/bin/R CMD build --keep-empty-dirs --no-resave-data flowStats StartedAt: 2024-04-15 18:45:20 -0400 (Mon, 15 Apr 2024) EndedAt: 2024-04-15 18:49:00 -0400 (Mon, 15 Apr 2024) EllapsedTime: 220.5 seconds RetCode: 0 Status: OK PackageFile: flowStats_4.14.1.tar.gz PackageFileSize: 10.97 MiB