Package: flowStats Version: 4.14.1 Command: rm -rf flowStats.buildbin-libdir && mkdir flowStats.buildbin-libdir && F:\biocbuild\bbs-3.18-bioc\R\bin\R.exe CMD INSTALL --build --library=flowStats.buildbin-libdir flowStats_4.14.1.tar.gz StartedAt: 2024-04-16 07:01:40 -0400 (Tue, 16 Apr 2024) EndedAt: 2024-04-16 07:02:26 -0400 (Tue, 16 Apr 2024) EllapsedTime: 46.3 seconds RetCode: 0 Status: OK PackageFile: flowStats_4.14.1.zip PackageFileSize: 11.69 MiB