Package: fobitools
Version: 1.10.0
Command: /home/biocbuild/bbs-3.18-bioc/R/bin/R CMD build --keep-empty-dirs --no-resave-data fobitools
StartedAt: 2024-04-15 17:08:05 -0400 (Mon, 15 Apr 2024)
EndedAt: 2024-04-15 17:09:12 -0400 (Mon, 15 Apr 2024)
EllapsedTime: 67.7 seconds
RetCode: 0
Status: OK
PackageFile: fobitools_1.10.0.tar.gz
PackageFileSize: 4.377 <A href="http://en.wikipedia.org/wiki/MiB" target="_blank">MiB</A>