Package: fobitools Version: 1.10.0 Command: chmod a+r fobitools -R && F:\biocbuild\bbs-3.18-bioc\R\bin\R.exe CMD build --keep-empty-dirs --no-resave-data fobitools StartedAt: 2024-04-15 18:35:32 -0400 (Mon, 15 Apr 2024) EndedAt: 2024-04-15 18:36:52 -0400 (Mon, 15 Apr 2024) EllapsedTime: 80.2 seconds RetCode: 0 Status: OK PackageFile: fobitools_1.10.0.tar.gz PackageFileSize: 3.008 MiB