Package: frmaTools Version: 1.54.0 Command: /home/biocbuild/bbs-3.18-bioc/R/bin/R CMD INSTALL frmaTools StartedAt: 2024-04-15 15:08:14 -0400 (Mon, 15 Apr 2024) EndedAt: 2024-04-15 15:08:25 -0400 (Mon, 15 Apr 2024) EllapsedTime: 11.3 seconds RetCode: 0 Status: OK