Package: gDR Version: 1.0.0 Command: /home/biocbuild/R/R-4.3.1/bin/R CMD build --keep-empty-dirs --no-resave-data gDR StartedAt: 2023-11-02 01:18:38 -0000 (Thu, 02 Nov 2023) EndedAt: 2023-11-02 01:19:49 -0000 (Thu, 02 Nov 2023) EllapsedTime: 71.1 seconds RetCode: 0 Status: OK PackageFile: gDR_1.0.0.tar.gz PackageFileSize: 270.4 KiB