Package: gDR Version: 1.0.0 Command: /Library/Frameworks/R.framework/Resources/bin/R CMD build --keep-empty-dirs --no-resave-data gDR StartedAt: 2024-03-03 16:47:59 -0500 (Sun, 03 Mar 2024) EndedAt: 2024-03-03 16:49:04 -0500 (Sun, 03 Mar 2024) EllapsedTime: 65.5 seconds RetCode: 0 Status: OK PackageFile: gDR_1.0.0.tar.gz PackageFileSize: 246.3 KiB