Package: gDR Version: 1.0.0 Command: /Library/Frameworks/R.framework/Resources/bin/R CMD INSTALL gDR StartedAt: 2024-03-03 15:41:00 -0500 (Sun, 03 Mar 2024) EndedAt: 2024-03-03 15:41:35 -0500 (Sun, 03 Mar 2024) EllapsedTime: 34.2 seconds RetCode: 0 Status: OK