Package: gDR Version: 1.0.0 Command: /Library/Frameworks/R.framework/Resources/bin/R CMD build --keep-empty-dirs --no-resave-data gDR StartedAt: 2024-04-15 18:49:54 -0400 (Mon, 15 Apr 2024) EndedAt: 2024-04-15 18:51:48 -0400 (Mon, 15 Apr 2024) EllapsedTime: 114.9 seconds RetCode: 0 Status: OK PackageFile: gDR_1.0.0.tar.gz PackageFileSize: 246.3 KiB