Package: gDR Version: 1.0.0 Command: /Library/Frameworks/R.framework/Resources/bin/R CMD INSTALL gDR StartedAt: 2024-04-15 16:30:50 -0400 (Mon, 15 Apr 2024) EndedAt: 2024-04-15 16:31:40 -0400 (Mon, 15 Apr 2024) EllapsedTime: 49.8 seconds RetCode: 0 Status: OK