Package: gDR Version: 1.0.0 Command: /home/biocbuild/bbs-3.18-bioc/R/bin/R CMD build --keep-empty-dirs --no-resave-data gDR StartedAt: 2024-04-15 17:10:14 -0400 (Mon, 15 Apr 2024) EndedAt: 2024-04-15 17:11:05 -0400 (Mon, 15 Apr 2024) EllapsedTime: 51.3 seconds RetCode: 0 Status: OK PackageFile: gDR_1.0.0.tar.gz PackageFileSize: 246.4 KiB