Package: gDR Version: 1.0.0 Command: rm -rf gDR.buildbin-libdir && mkdir gDR.buildbin-libdir && F:\biocbuild\bbs-3.18-bioc\R\bin\R.exe CMD INSTALL --build --library=gDR.buildbin-libdir gDR_1.0.0.tar.gz StartedAt: 2024-04-16 07:02:38 -0400 (Tue, 16 Apr 2024) EndedAt: 2024-04-16 07:03:20 -0400 (Tue, 16 Apr 2024) EllapsedTime: 41.7 seconds RetCode: 0 Status: OK PackageFile: gDR_1.0.0.zip PackageFileSize: 254.6 KiB