Package: gDR Version: 1.0.0 Command: chmod a+r gDR -R && F:\biocbuild\bbs-3.18-bioc\R\bin\R.exe CMD build --keep-empty-dirs --no-resave-data gDR StartedAt: 2024-04-15 18:38:40 -0400 (Mon, 15 Apr 2024) EndedAt: 2024-04-15 18:39:39 -0400 (Mon, 15 Apr 2024) EllapsedTime: 59.7 seconds RetCode: 0 Status: OK PackageFile: gDR_1.0.0.tar.gz PackageFileSize: 246.4 KiB