Package: gDRimport Version: 1.0.0 Command: /Library/Frameworks/R.framework/Resources/bin/R CMD INSTALL gDRimport StartedAt: 2024-03-03 15:40:25 -0500 (Sun, 03 Mar 2024) EndedAt: 2024-03-03 15:41:00 -0500 (Sun, 03 Mar 2024) EllapsedTime: 35.7 seconds RetCode: 0 Status: OK