Package: gDRstyle Version: 1.0.0 Command: /Library/Frameworks/R.framework/Resources/bin/R CMD check --install=check:gDRstyle.install-out.txt --library=/Library/Frameworks/R.framework/Resources/library --no-vignettes --timings gDRstyle_1.0.0.tar.gz StartedAt: 2024-04-16 03:05:32 -0400 (Tue, 16 Apr 2024) EndedAt: 2024-04-16 03:07:55 -0400 (Tue, 16 Apr 2024) EllapsedTime: 142.7 seconds RetCode: 0 Status: OK CheckDir: gDRstyle.Rcheck Warnings: 0