Package: gDRstyle Version: 1.0.0 Command: chmod a+r gDRstyle -R && F:\biocbuild\bbs-3.18-bioc\R\bin\R.exe CMD build --keep-empty-dirs --no-resave-data gDRstyle StartedAt: 2024-04-15 18:39:23 -0400 (Mon, 15 Apr 2024) EndedAt: 2024-04-15 18:39:35 -0400 (Mon, 15 Apr 2024) EllapsedTime: 12.1 seconds RetCode: 0 Status: OK PackageFile: gDRstyle_1.0.0.tar.gz PackageFileSize: 305.6 KiB