Package: gDRstyle Version: 1.0.0 Command: F:\biocbuild\bbs-3.18-bioc\R\bin\R.exe CMD check --no-multiarch --install=check:gDRstyle.install-out.txt --library=F:\biocbuild\bbs-3.18-bioc\R\library --no-vignettes --timings gDRstyle_1.0.0.tar.gz StartedAt: 2024-04-16 01:00:27 -0400 (Tue, 16 Apr 2024) EndedAt: 2024-04-16 01:01:54 -0400 (Tue, 16 Apr 2024) EllapsedTime: 87.3 seconds RetCode: 0 Status: OK CheckDir: gDRstyle.Rcheck Warnings: 0